Workbook

Sheet Instructions
B2: EIP ASSESSMENT TOOL: INSTRUCTIONS
B4: RATIONALE FOR THE TOOL
B6: The management of an industrial park plays a crucial role in the daily operations of the industrial park property, ensuring the continuous implementation of EIP opportunities and engaging with the park’s stakeholders, including resident firms, communities, and regulating bodies. An effective park management structure is a key requisite for a successful EIP development. It is important for park management to understand their performance against international EIP benchmarks to identify gaps and take action on EIP opportunities which are achievable and can generate substantial benefits (e.g. economic, environmental, and social).
B8: TOOL OBJECTIVES
B10: The objective of this tool is to assess an industrial park against the International Framework for Eco-Industrial Parks (UNIDO, WBG and GIZ, 2017) and subsequently identify, prioritize, plan, manage and monitor eco-industrial park initiatives. It can be used and adapted to all types of existing (brownfield) industrial parks and management structures (e.g. private company, public authority, public private set-up, real estate).
B12: STEPS AND INSTRUCTIONS
B14: The tool is designed to be used by international development agencies (e.g. by UNIDO staff members as part of EIP projects) and service providers (e.g. National Cleaner Production Centres, consulting companies) who work with industrial park management units in their countries.
C18: STEPS IN TOOL | AC18: DETAILED INSTRUCTIONS | BC18: ESTIMATED TIME TO COMPLETE TOOL
C20: STEP 1 | R20: Together with park management team, go through the benchmarks of the International EIP Framework and assess to what extent the park meets each benchmark. This assessment is done for the park's current performance, but can also be done for its future intended performance (e.g. 2-3 years). If a benchmark is not met, brainstorm about a specific opportunity that could be undertaken by park management and/or companies in order to meet the benchmark. Write down the consolidated opportunities in the respective cells. | BC20: Time investment is subject to desired level of detail | BM20: Simple basic analysis | BT20: Detailed analysis
C21: Assess industrial park performance against the prerequisites and performance indicators of the International EIP Framework
BC22: Expert / consultant | BM22: 2 to 3 person days | BT22: 3 to 5 person days
BC24: Park management | BM24: 1 person day | BT24: 2 person days
BC26: Location where step can be undertaken | BM26: Preparatory work can be done at office of expert(s). Step 1 should be completed at park management office with team
C30: STEP 2 | R30: For each of the EIP opportunities identified, select a qualitative rating (e.g. Low, Medium, High) of the likely achievability, anticipated benefits and interest from park management and companies to work on the opportunity. Based on the review of the achievability, benefits and interest, come to a consolidated decision for each EIP opportunity on whether or not to select it for short-term action and monitoring. This selection process needs to be undertaken with park management team, and where needed with relevant tenant companies. | BC30: Time investment is subject to desired level of detail | BM30: Simple basic analysis | BT30: Detailed analysis
C31: Select EIP opportunities which are most achievable and beneficial
BC32: Expert / consultant | BM32: 1 to 2 person days | BT32: 2 to 4 person days
BC34: Park management | BM34: 0.5 person day | BT34: 1 person day
BC36: Location where step can be undertaken | BM36: Preparatory work can be done at office of expert. Step 2 should be completed at park management office with team
C40: STEP 3 | R40: Formulate the EIP opportunities (selected in step 2) into concrete initiatives. For each initiative: * Estimate CAPEX, OPEX and cost recovery model * Define activities to be undertaken to deliver the initiative, including time period, responsible person, progress note, and if needed corrective actions * Set SMART targets (e.g. Specific, Measurable, Attainable, Relevant and Timely) and note the actual performance levels over time Recognising that park management may have already systems in place to monitor and manage their activities, it is envisaged that the planning and monitoring of prioritized EIP opportunities is adapted to suit the specific requirements of park management and existing systems in place. | BC40: Time investment is subject to desired level of detail | BM40: Simple basic analysis | BT40: Detailed analysis
C41: Plan, manage and monitor progress on prioritized EIP opportunities
BC42: Expert / consultant | BM42: 2 to 3 person days | BT42: 3 to 5 person days
BC44: Park management | BM44: 1 person day | BT44: 2 person days
BC46: Location where step can be undertaken | BM46: Preparatory work can be done at office of expert. Step 3 should be completed at park management office with team
B53: EXAMPLE OF PRACTICAL APPLICATION
M55: EIP Opportunity Review and Recommendations for Parque Industrial Malambo (PIMSA), Colombia | BG55: Lessons learnt from tool application
M57: The EIP Assessment Tool was used to assess PIMSA’s performance against the International EIP Framework and subsequent identification and action planning of EIP opportunities. The tool application showed that PIMSA performs and compares favorably against large proportions of the benchmarks in the International EIP Framework (i. e. 80% of the applicable international benchmarks were fully or partly met by PIMSA). A set of concrete and practical opportunities were identified and prioritized for PIMSA to meet all EIP requirements of the International Framework, including an action plan to support their implementation with key stakeholders. Examples of EIP initiatives identified and selected for development are the establishment of a park and joint industry committee on waste management, reuse of wastewater streams, and creating a business unit for the management of wastewater and its reuse. The assessment was undertaken as part of a UNIDO EIP Pilot Project (2017-2018). | BG57: • The International EIP Framework provides a robust foundation from which to assess an industrial park against international benchmarks. • Preparatory work should be done before meeting with the park management to ensure efficient completion of the tool (e.g. translation of performance indicators, completion of tool with avaible information). • The assessment also serves as a basis for park management to support engagement with its external stakeholders on its strategic position, current performance and future plans to transform into an eco-industrial park.
B71: FURTHER READING
C73: Where to find more information about UNIDO EIP tools? | Y73: What do we mean with Eco-Industrial Parks? | AR73: How to operationalize the EIP Framework? | BJ73: How do we implement Eco-Industrial Parks?
C74: Manual for UNIDO Toolbox on Eco-Industrial Parks | Y74: An International Framework for Eco-Industrial Parks | AR74: A Practitioner's Handbook For Eco-Industrial Parks | BJ74: Implementation Handbook for EIPs
C75: (UNIDO, 2019) | Y75: (UNIDO, World Bank Group, GIZ, 2017) | AR75: (UNIDO, World Bank Group, GIZ and MOTIE 2018) | BJ75: (UNIDO 2017)
B86: LIST OF ACRONYMS
B88: CAPEX | G88: Capital expenditure
B89: CO2 | G89: Carbon dioxide
B90: CO2-eq | G90: Carbon dioxide equivalent
B91: EIP | G91: Eco-industrial park
B92: GHG | G92: Greenhouse gas
B93: GIZ | G93: Deutsche Gesellschaft für Internationale Zusammenarbeit GmbH
B94: NOx | G94: Nitrogen oxides
B95: OHS | G95: Occupational health and safety
B96: OPEX | G96: Operational expenditure
...

Sheet Steps 1 & 2 - Assess & select
B1: UNIDO EIP Assessment Tool (V2)
B2: ASSESS INDUSTRIAL PARK AGAINST THE INTERNATIONAL EIP FRAMEWORK AND SELECT OPPORTUNITIES | E2: Name of industrial park: | F2: Insert name of industrial park
E3: Date of assessment: | F3: Insert date
E4: Name of assessor: | F4: Insert name
B7: The international benchmarks included in this worksheet are based on: UNIDO, World Bank, GIZ (2017). An International Framework for Eco-Industrial Parks. Version December 2017.
B9: INTERNATIONAL EIP FRAMEWORK (UNIDO, WORLD BANK, GIZ, 2017) | D9: STEP 1: ASSESSMENT OF INDUSTRIAL PARK | H9: STEP 2: SELECT EIP OPPORTUNITIES FOR ACTIONING AND MONITORING
B10: Topic | C10: EIP prerequisites and performance indicators (including target values) | D10: Does park meet EIP benchmark AT PRESENT? | E10: (OPTIONAL) What is intended performance? (e.g. in 2-3 YEARS) | F10: Notes and evidence on current performance of industrial park | G10: EIP opportunity for industrial park | H10: What is likely ACHIEVABILITY of EIP opportunity? | I10: What are likely BENEFITS of EIP opportunity? | J10: Interest from park management? | K10: Select EIP opportunity for short-term action? | L10: Comments
B11: PARK MANAGEMENT: EIP prerequisites ("must have for EIPs")
B12: Park management services | C12: A distinct park management entity (or alternative agency, where applicable) exists to handle park planning, operations and management, and monitoring. | D12: Please select | E12: Please select | H12: Please select | I12: Please select | J12: Please select | K12: Please select
C13: Park management entity to manage and maintain the industrial park property, common infrastructure, and services as prescribed in the tenant contract and the park’s Master Plan. This should include, but is not limited to the following: • Property management, including plot allotments, re-allotments, development, land use monitoring, and so on. • Utilities, roads, and technical units such as waste and wastewater treatment plants and operations, power and energy systems. • Waste collection areas and services. • Maintenance and repair workshops. • Security and emergency response services and facilities. • Common landscaping, buffer zones, street lighting, security surveillance and street cleaning. • Common employee and tenant facilities. • Provide facilitating services to and between tenant firms (for example, networking, collaboration and training opportunities). • Engagement with the park’s stakeholders and business representatives. | D13: Please select | E13: Please select | H13: Please select | I13: Please select | J13: Please select | K13: Please select
B14: Monitoring and risk management | C14: Park management entity maintains a monitoring system in place, tracking: • Progress on environmental, social and economic performance at the park level. • Critical risk factors and related responses, at least for: o Risk points where the accidental release of poisonous solid, liquid and gaseous effluents, including during transportation and disposal when fire hazards are possible; and o Applicable natural disaster risks (for example, earthquakes) | D14: Please select | E14: Please select | H14: Please select | I14: Please select | J14: Please select | K14: Please select
C15: Where required, Park management has a plan in place to react to possible negative impacts due to climate change risks (heat waves and droughts, storms and floodwater events). All adaption needs for infrastructure and services are identified and in place for the industrial estate to protect against climate change risks and potential damages. | D15: Please select | E15: Please select | H15: Please select | I15: Please select | J15: Please select | K15: Please select
C16: Park management entity has a functioning system in place to comply with local/national regulations and international standards applicable to the industrial park. Park management informs compliance by resident firms including compliance information that firms share with the park management entity. | D16: Please select | E16: Please select | H16: Please select | I16: Please select | J16: Please select | K16: Please select
B17: Planning and zoning | C17: A Master Plan (or equivalent planning document) for any new and existing industrial park has been developed and is reviewed periodically (and updated if required), including the following core elements: • Site selection study based on various risk analyses; essential and efficient infrastructure, utilities, and transportation network; environmental and social issues; internal park land zoning; buffer zone around the park; procedure to safely locate high risk industries; and cluster synergistic industries. • Integration into Master Plan of relevant requirements specified in these international EIP benchmarks that have spatial implications. | D17: Please select | E17: Please select | H17: Please select | I17: Please select | J17: Please select | K17: Please select
B18: PARK MANAGEMENT: Performance indicators
B19: Park management services | C19: 100% of firms in the industrial park have signed a residency contract/ park charter/code of conduct (depending on what is legally binding on park firms according to the existing legislation in the country ); and additional legally binding arrangements that empower the park management entity to perform its responsibilities and tasks and charge fees (sometimes absorbed in rental fees) for common services. This may include transparent fees for services pertaining to the achievement of EIP performance targets. | D19: Please select | E19: Please select | H19: Please select | I19: Please select | J19: Please select | K19: Please select
C20: At least 75% of resident firms indicate satisfaction with regard to the provision of services and common infrastructure by the park management’s entity (or alternative agency, where applicable). | D20: Please select | E20: Please select | H20: Please select | I20: Please select | J20: Please select | K20: Please select
B21: Monitoring and risk management | C21: At least every 6 months, park management entity monitors and prepares consolidated reports regarding the achievement of target values (as documented in this framework) to encompass the following: • Environmental performance; • Social performance; • Economic performance; and • Critical risk management at the level of the park. | D21: Please select | E21: Please select | H21: Please select | I21: Please select | J21: Please select | K21: Please select
B22: ENVIRONMENT: EIP prerequisites ("must have for EIPs")
B23: Management and monitoring | C23: Park management entity operates an environmental / energy management system in line with internationally certified standards, monitoring park performance and supporting resident firms in the maintenance of their own firm-level management systems. | D23: Please select | E23: Please select | H23: Please select | I23: Please select | J23: Please select | K23: Please select
B24: Energy | C24: Supporting programs and documents are in place to improve the energy efficiency of resident firms, especially for the top 50 percent of major energy-consuming businesses in the park. | D24: Please select | E24: Please select | H24: Please select | I24: Please select | J24: Please select | K24: Please select
C25: An industrial heat recovery strategy is in place to investigate opportunities for heat and energy recovery for the major energy-consuming firms in the park. (Typically, these are firms that individually consume at least 10-20 percent of total firm level energy consumption). | D25: Please select | E25: Please select | H25: Please select | I25: Please select | J25: Please select | K25: Please select
B26: Water | C26: Park management entity has demonstrable plans and (preferably) prior documented evidence to increase water reuse in the short and medium term. This would be achieved by either reuse of industrial effluents, or by rainwater/storm water collection. | D26: Please select | E26: Please select | H26: Please select | I26: Please select | J26: Please select | K26: Please select
B27: Climate change and the natural environment | C27: A program is established to monitor, mitigate and/or minimize GHG emissions, such as carbon dioxide (CO2), methane (CH4), nitrogen oxide (NOx), and so on. There is clear evidence of steps taken to introduce mitigation activities. | D27: Please select | E27: Please select | H27: Please select | I27: Please select | J27: Please select | K27: Please select
C28: The park management entity has a plan in place to assess operational environmental impacts, and aims to limit the impact on prioritized local ecosystem services. | D28: Please select | E28: Please select | H28: Please select | I28: Please select | J28: Please select | K28: Please select
B29: ENVIRONMENT: Performance indicators
B30: Management and monitoring | C30: At least 40% of resident firms with more than 250 employees have an environmental / energy management system in place that is in line with internationally certified standards. | D30: Please select | E30: Please select | H30: Please select | I30: Please select | J30: Please select | K30: Please select
B31: Energy | C31: At least 90% of combined park facilities and firm-level energy consumption have metering and monitoring systems in place. | D31: Please select | E31: Please select | H31: Please select | I31: Please select | J31: Please select | K31: Please select
C32: Total renewable energy use in the industrial park is equal to or greater than the annual national average energy mix. | D32: Please select | E32: Please select | H32: Please select | I32: Please select | J32: Please select | K32: Please select
C33: Park management entity sets and works toward ambitious (beyond industry norms) maximum carbon intensity targets (maximum kilograms of carbon dioxide equivalent (kg CO2-eq) / kilowatt hour (kWh) for the park and its residents. Targets should be established for the short, medium, and long term, in line with local norms and industry sector benchmarks. | D33: Please select | E33: Please select | H33: Please select | I33: Please select | J33: Please select | K33: Please select
C34: Park management entity sets and works toward ambitious maximum energy intensity targets per production unit (kWh/$ turnover) for the park and its residents. Targets should be established for the short, medium, and long term, in line with local norms and industry sector benchmarks. | D34: Please select | E34: Please select | H34: Please select | I34: Please select | J34: Please select | K34: Please select
B35: Water | C35: 100% of total water demand from firms in industrial park do not have significant negative impacts on local water sources or local communities. | D35: Please select | E35: Please select | H35: Please select | I35: Please select | J35: Please select | K35: Please select
C36: At least 95% of industrial wastewater generated by industrial park and resident firms is treated to appropriate environmental standards. | D36: Please select | E36: Please select | H36: Please select | I36: Please select | J36: Please select | K36: Please select
C37: At least 50% of total industrial wastewater from firms in the park is reused responsibly within or outside the industrial park. | D37: Please select | E37: Please select | H37: Please select | I37: Please select | J37: Please select | K37: Please select
B38: Waste and material use | C38: At least 20% of solid waste generated by firms is reused by other firms, neighbouring communities, or municipalities. | D38: Please select | E38: Please select | H38: Please select | I38: Please select | J38: Please select | K38: Please select
C39: 100% of firms in park appropriately handle, store, transport and dispose of toxic and hazardous materials. | D39: Please select | E39: Please select | H39: Please select | I39: Please select | J39: Please select | K39: Please select
C40: Less than 50% of wastes generated by firms in the industrial park goes to landfills. | D40: Please select | E40: Please select | H40: Please select | I40: Please select | J40: Please select | K40: Please select
B41: Climate change and the natural environment | C41: At least 5% of open space in the park is used for native flora and fauna. | D41: Please select | E41: Please select | H41: Please select | I41: Please select | J41: Please select | K41: Please select
C42: At least 50% of firms in park have pollution prevention and emission reduction strategies to reduce the intensity and mass flow of pollution/emission release beyond national regulations. | D42: Please select | E42: Please select | H42: Please select | I42: Please select | J42: Please select | K42: Please select
C43: At least 30% of largest polluters in industrial park have a risk management framework in place that: (a) identifies the aspects which have an impact on the environment and; (b) assign a level of significance to each environmental aspect. | D43: Please select | E43: Please select | H43: Please select | I43: Please select | J43: Please select | K43: Please select
...

Sheet Graph - EIP performance
B1: UNIDO EIP Assessment Tool (V2)
B2: GRAPH SHOWING PERFORMANCE AGAINST INTERNATIONAL EIP FRAMEWORK | F2: Name of industrial park: | G2: ='Steps 1 & 2 - Assess & select'!F2 -> Insert name of industrial park
F3: Date of assessment: | G3: ='Steps 1 & 2 - Assess & select'!F3 -> Insert date
F4: Name of assessor: | G4: ='Steps 1 & 2 - Assess & select'!F4 -> Insert name
B10: Assessment categories | C10: CURRENT PERFORMANCE: Number of benchmarks
C11: Yes | D11: Partly | E11: No | F11: To be confirmed | G11: Not applicable
B12: Park management | C12: =COUNTIF('Steps 1 & 2 - Assess & select'!D12:D21,"Yes") -> 0 | D12: =COUNTIF('Steps 1 & 2 - Assess & select'!D12:D21,"Partly") -> 0 | E12: =COUNTIF('Steps 1 & 2 - Assess & select'!D12:D21,"No") -> 0 | F12: =COUNTIF('Steps 1 & 2 - Assess & select'!D12:D21,"To be confirmed") -> 0 | G12: =COUNTIF('Steps 1 & 2 - Assess & select'!D12:D21,"Not applicable") -> 0
B13: Environmental performance | C13: =COUNTIF('Steps 1 & 2 - Assess & select'!D23:D43,"Yes") -> 0 | D13: =COUNTIF('Steps 1 & 2 - Assess & select'!D23:D43,"Partly") -> 0 | E13: =COUNTIF('Steps 1 & 2 - Assess & select'!D23:D43,"No") -> 0 | F13: =COUNTIF('Steps 1 & 2 - Assess & select'!D23:D43,"To be confirmed") -> 0 | G13: =COUNTIF('Steps 1 & 2 - Assess & select'!D23:D43,"Not applicable") -> 0
B14: Social performance | C14: =COUNTIF('Steps 1 & 2 - Assess & select'!D45:D58,"Yes") -> 0 | D14: =COUNTIF('Steps 1 & 2 - Assess & select'!D45:D58,"Partly") -> 0 | E14: =COUNTIF('Steps 1 & 2 - Assess & select'!D45:D58,"No") -> 0 | F14: =COUNTIF('Steps 1 & 2 - Assess & select'!D45:D58,"To be confirmed") -> 0 | G14: =COUNTIF('Steps 1 & 2 - Assess & select'!D45:D58,"Not applicable") -> 0
B15: Economic performance | C15: =COUNTIF('Steps 1 & 2 - Assess & select'!D60:D69,"Yes") -> 0 | D15: =COUNTIF('Steps 1 & 2 - Assess & select'!D60:D69,"Partly") -> 0 | E15: =COUNTIF('Steps 1 & 2 - Assess & select'!D60:D69,"No") -> 0 | F15: =COUNTIF('Steps 1 & 2 - Assess & select'!D60:D69,"To be confirmed") -> 0 | G15: =COUNTIF('Steps 1 & 2 - Assess & select'!D60:D69,"Not applicable") -> 0
B16: Overall performance | C16: =SUM(C12:C15) -> 0 | D16: =SUM(D12:D15) -> 0 | E16: =SUM(E12:E15) -> 0 | F16: =SUM(F12:F15) -> 0 | G16: =SUM(G12:G15) -> 0
B18: Industrial park | C18: % of applicable EIP benchmarks fulfilled According to International EIP Framework (UNIDO, WBG, GIZ (2017)
C19: Current performance | G19: Intended performance at end of GEIPP | K19: Improvement potential
C20: Counts "Yes" | D20: Total benchmarks excl. "Not applicable" | E20: % of applicable benchmarks fulfilled | F20: Counts "To be confirmed" | G20: Counts "Yes" | H20: Total benchmarks excl. "Not applicable" | I20: % of applicable benchmarks fulfilled | J20: Counts "To be confirmed"
B21: =G2 -> Insert name of industrial park | C21: =COUNTIF('Steps 1 & 2 - Assess & select'!D12:D69,"Yes") -> 0 | D21: =COUNTIF('Steps 1 & 2 - Assess & select'!D12:D69,"<>Not applicable")-7 -> 51 | E21: =C21/D21 -> 0 | F21: =COUNTIF('Steps 1 & 2 - Assess & select'!D12:D69,"To be confirmed") -> 0 | G21: =COUNTIF('Steps 1 & 2 - Assess & select'!E12:E69,"Yes") -> 0 | H21: =COUNTIF('Steps 1 & 2 - Assess & select'!E12:E69,"<>Not applicable")-7 -> 51 | I21: =G21/H21 -> 0 | J21: =COUNTIF('Steps 1 & 2 - Assess & select'!E12:E69,"To be confirmed") -> 0 | K21: =I21-E21 -> 0

Sheet Step 3 - Plan, manage & monitor
B1: UNIDO EIP Assessment Tool (V2)
B2: PLAN, MANAGE AND MONITOR EIP INITIATIVES WORKSHEET FOR PARK MANAGEMENT | H2: Name of industrial park: | I2: ='Steps 1 & 2 - Assess & select'!F2 -> Insert name of industrial park
H3: Last update of this worksheet: | I3: Insert date
H4: Name of person updating this worksheet: | I4: Insert name
B7: EIP INITIATIVES FOR INDUSTRIAL PARK | J7: ACTIVITIES FOR EIP INITIATIVES | Q7: SMART TARGETS: SPECIFIC, MEASURABLE, ATTAINABLE, RELEVANT AND TIMELY | T7: ACTUAL PERFORMANCE LEVELS
B9: # | C9: Topic | D9: Short title of EIP initiative | E9: CAPEX | F9: CAPEX funding | G9: OPEX | H9: Cost recovery | J9: # | K9: Planned activities | L9: Time period (e.g. start, end date) | M9: Responsible | N9: Progress note | O9: Corrective actions | Q9: Target description | R9: Means to measure performance level | S9: Target value and time | T9: 2015 | U9: 2016 | V9: 2017 | W9: 2018 | X9: 2019 | Y9: 2020 | Z9: 2021
B10: N/A | C10: Water (example) | D10: Example: Develop centralised WWTP for industrial park | E10: 500,000 Euros | F10: 350,000 Euros (industries in park) 150,000 Euros (international donor) | G10: Estimated at about 25,000 Euros/year | H10: To be incorporated in effluent treatment fees | J10: 1 | K10: Undertake pre-feasibility study | L10: January to July 2018 | M10: Selected engineering firm | N10: Completed | Q10: Percentage of industrial effluent generated in industrial park treated by WWTP | R10: Park management monitoring system | S10: min 75% by 2020 | T10: 0.25 | U10: 0.25 | V10: 0.25
J11: 2 | K11: Undertake feasibility study | L11: July to October 2018 | M11: Selected engineering firm | N11: Completed
J12: 3 | K12: Select most feasible option | L12: November 2018 | M12: Park management | N12: Completed
J13: 4 | K13: Build selected WWTP system | L13: January to November 2019 | M13: Selected contractor | N13: Delayed | O13: Park management to follow-up with contract to speed up installation process of WWTP
J14: 5 | K14: Start operation of WWTP | L14: December 2019 | M14: Selected contractor | N14: Not started yet
B16: # | C16: Topic | D16: Short title of EIP initiative | E16: CAPEX | F16: CAPEX funding | G16: OPEX | H16: Cost recovery | J16: # | K16: Planned activities | L16: Time period (e.g. start, end date) | M16: Responsible | N16: Progress note | O16: Corrective actions | Q16: Target description | R16: Means to measure performance level | S16: Target value and time | T16: 2015 | U16: 2016 | V16: 2017 | W16: 2018 | X16: 2019 | Y16: 2020 | Z16: 2021
B17: N/A | C17: Local community outreach (example) | D17: Example: Organize regular outreach events to engage local community on key developments and future plans of industrial park | E17: Not applicable (events are held at park management conference venue) | F17: Not applicable | G17: Budget of 1,000 Euros per event | H17: Part of overall administration budget of park management | J17: 1 | K17: Make public announcement for community event | L17: Latest 3 weeks prior to event | M17: Park management | N17: Not started yet | Q17: Percentage of community members who are satisfied with the outreach event | R17: Short survey with particpants in events | S17: min 80% by 2020 | T17: No survey | U17: No survey | V17: 0.72
J18: 2 | K18: Organize speakers and presentations for event | L18: Latest 2 weeks prior to event | M18: Park management | N18: Not started yet
J19: 3 | K19: Organize catering | L19: Latest 1 week prior to event | M19: Park management | N19: Not started yet
J20: 4 | K20: Hold community outreach events in 2018 | L20: 1 April, 1 July, 1 September and 1 December 2018 | M20: Park management | N20: Not started yet
B22: # | C22: Topic | D22: Short title of EIP initiative | E22: CAPEX | F22: CAPEX funding | G22: OPEX | H22: Cost recovery | J22: # | K22: Planned activities | L22: Time period (e.g. start, end date) | M22: Responsible | N22: Progress note | O22: Corrective actions | Q22: Target description | R22: Means to measure performance level | S22: Target value and time | T22: Insert period | U22: Insert period | V22: Insert period | W22: Insert period | X22: Insert period | Y22: Insert period | Z22: Insert period
B23: 1 | J23: 1
J24: 2
J25: 3
J26: 4
J27: 5
B29: # | C29: Topic | D29: Short title of EIP initiative | E29: CAPEX | F29: CAPEX funding | G29: OPEX | H29: Cost recovery | J29: # | K29: Planned activities | L29: Time period (e.g. start, end date) | M29: Responsible | N29: Progress note | O29: Corrective actions | Q29: Target description | R29: Means to measure performance level | S29: Target value and time | T29: Insert period | U29: Insert period | V29: Insert period | W29: Insert period | X29: Insert period | Y29: Insert period | Z29: Insert period
B30: 2 | J30: 1
J31: 2
J32: 3
J33: 4
J34: 5
B36: # | C36: Topic | D36: Short title of EIP initiative | E36: CAPEX | F36: CAPEX funding | G36: OPEX | H36: Cost recovery | J36: # | K36: Planned activities | L36: Time period (e.g. start, end date) | M36: Responsible | N36: Progress note | O36: Corrective actions | Q36: Target description | R36: Means to measure performance level | S36: Target value and time | T36: Insert period | U36: Insert period | V36: Insert period | W36: Insert period | X36: Insert period | Y36: Insert period | Z36: Insert period
B37: 3 | J37: 1
J38: 2
J39: 3
J40: 4
J41: 5
B43: # | C43: Topic | D43: Short title of EIP initiative | E43: CAPEX | F43: CAPEX funding | G43: OPEX | H43: Cost recovery | J43: # | K43: Planned activities | L43: Time period (e.g. start, end date) | M43: Responsible | N43: Progress note | O43: Corrective actions | Q43: Target description | R43: Means to measure performance level | S43: Target value and time | T43: Insert period | U43: Insert period | V43: Insert period | W43: Insert period | X43: Insert period | Y43: Insert period | Z43: Insert period
B44: 4 | J44: 1
J45: 2
J46: 3
J47: 4
J48: 5
...
